BEGIN:VCALENDAR
VERSION:2.0
PRODID:-//Eventin//Event Calendar//EN
CALSCALE:GREGORIAN
METHOD:PUBLISH
BEGIN:VEVENT
UID:79184fc732ec6aacc4dee4c67214ce97@hceticket.hu
SUMMARY:XII. Hungarian Card Expo
DESCRIPTION:XII. Hungarian Card Expo  – A legnagyobb hazai kártyás ese
 mény!\n\n📅 Időpont: 2026. Június  6. 📍 Helyszín: Lurdy Ház\, B
 udapest\n\nA gyűjtők\, kereskedők és rajongók találkozási pontja! A 
 Hungarian Card Expo powered by Myth Games 2026-ban minden eddiginél nagyob
 b és izgalmasabb. Több száz eladó\, kiállító és gyűjtő várja az 
 érdeklődőket\, hogy egy helyen böngéssz\, vásárolj és cserélj kár
 tyákat.\n\n \n\n Sima belépőjegy:\n\n\nBelépés 10:00-tól \n\n1 db s
 ansz token\n\n\n VIP belépőjegy:\n\n\nKezdés előtti belépés 09:00-tó
 l\nBlacklab lap\n\nAjándék HCE kulacs \n\n\nNe maradj le! Szerezd be onl
 ine a belépődet most\, és csatlakozz Magyarország legnagyobb kártyás 
 közösségéhez!
LOCATION:1097 Budapest\, Könyves Kálmán krt. 12-14. Lurdy Ház
DTSTAMP:20260421T104241Z
DTSTART:20260606T080000Z
DTEND:20260606T140000Z
END:VEVENT
END:VCALENDAR
